BEGIN:VCALENDAR
VERSION:2.0
PRODID:http://www.kufer.de/kuferweb / DE
METHOD:PUBLISH
CALSCALE:GREGORIAN
X-WR-TIMEZONE:Europe/Berlin
BEGIN:VTIMEZONE
TZID:Europe/Berlin
X-LIC-LOCATION:Europe/Berlin
BEGIN:DAYLIGHT
TZOFFSETFROM:+0100
TZOFFSETTO:+0200
TZNAME:CEST
DTSTART;TZID=Europe/Berlin:19700329T020000
RRULE:FREQ=YEARLY;INTERVAL=1;BYDAY=-1SU;BYMONTH=3
END:DAYLIGHT
BEGIN:STANDARD
TZOFFSETFROM:+0200
TZOFFSETTO:+0100
TZNAME:CET
DTSTART;TZID=Europe/Berlin:19701025T030000
RRULE:FREQ=YEARLY;INTERVAL=1;BYDAY=-1SU;BYMONTH=10
END:STANDARD
END:VTIMEZONE
BEGIN:VEVENT
DTSTAMP:20260420T230742
DTSTART;TZID=Europe/Berlin:20250922T180000
DTEND;TZID=Europe/Berlin:20250922T191500
UID:GM31482-20250922T180000@VHSMETZINGEN
SUMMARY:Yoga am frühen Abend (GM31482) 
LOCATION:Haus der VHS, Raum Atelier, Innere Heerstr. 6, 72555 Metzingen
END:VEVENT
BEGIN:VEVENT
DTSTAMP:20260420T230742
DTSTART;TZID=Europe/Berlin:20250929T180000
DTEND;TZID=Europe/Berlin:20250929T191500
UID:GM31482-20250929T180000@VHSMETZINGEN
SUMMARY:Yoga am frühen Abend (GM31482) 
LOCATION:Haus der VHS, Raum Atelier, Innere Heerstr. 6, 72555 Metzingen
END:VEVENT
BEGIN:VEVENT
DTSTAMP:20260420T230742
DTSTART;TZID=Europe/Berlin:20251006T180000
DTEND;TZID=Europe/Berlin:20251006T191500
UID:GM31482-20251006T180000@VHSMETZINGEN
SUMMARY:Yoga am frühen Abend (GM31482) 
LOCATION:Haus der VHS, Raum Atelier, Innere Heerstr. 6, 72555 Metzingen
END:VEVENT
BEGIN:VEVENT
DTSTAMP:20260420T230742
DTSTART;TZID=Europe/Berlin:20251013T180000
DTEND;TZID=Europe/Berlin:20251013T191500
UID:GM31482-20251013T180000@VHSMETZINGEN
SUMMARY:Yoga am frühen Abend (GM31482) 
LOCATION:Haus der VHS, Raum Atelier, Innere Heerstr. 6, 72555 Metzingen
END:VEVENT
BEGIN:VEVENT
DTSTAMP:20260420T230742
DTSTART;TZID=Europe/Berlin:20251020T180000
DTEND;TZID=Europe/Berlin:20251020T191500
UID:GM31482-20251020T180000@VHSMETZINGEN
SUMMARY:Yoga am frühen Abend (GM31482) 
LOCATION:Haus der VHS, Raum Atelier, Innere Heerstr. 6, 72555 Metzingen
END:VEVENT
BEGIN:VEVENT
DTSTAMP:20260420T230742
DTSTART;TZID=Europe/Berlin:20251103T180000
DTEND;TZID=Europe/Berlin:20251103T191500
UID:GM31482-20251103T180000@VHSMETZINGEN
SUMMARY:Yoga am frühen Abend (GM31482) 
LOCATION:Haus der VHS, Raum Atelier, Innere Heerstr. 6, 72555 Metzingen
END:VEVENT
BEGIN:VEVENT
DTSTAMP:20260420T230742
DTSTART;TZID=Europe/Berlin:20251110T180000
DTEND;TZID=Europe/Berlin:20251110T191500
UID:GM31482-20251110T180000@VHSMETZINGEN
SUMMARY:Yoga am frühen Abend (GM31482) 
LOCATION:Haus der VHS, Raum Atelier, Innere Heerstr. 6, 72555 Metzingen
END:VEVENT
BEGIN:VEVENT
DTSTAMP:20260420T230742
DTSTART;TZID=Europe/Berlin:20251117T180000
DTEND;TZID=Europe/Berlin:20251117T191500
UID:GM31482-20251117T180000@VHSMETZINGEN
SUMMARY:Yoga am frühen Abend (GM31482) 
LOCATION:Haus der VHS, Raum Atelier, Innere Heerstr. 6, 72555 Metzingen
END:VEVENT
BEGIN:VEVENT
DTSTAMP:20260420T230742
DTSTART;TZID=Europe/Berlin:20251124T180000
DTEND;TZID=Europe/Berlin:20251124T191500
UID:GM31482-20251124T180000@VHSMETZINGEN
SUMMARY:Yoga am frühen Abend (GM31482) 
LOCATION:Haus der VHS, Raum Atelier, Innere Heerstr. 6, 72555 Metzingen
END:VEVENT
BEGIN:VEVENT
DTSTAMP:20260420T230742
DTSTART;TZID=Europe/Berlin:20251203T170000
DTEND;TZID=Europe/Berlin:20251203T181500
UID:GM31482-20251203T170000@VHSMETZINGEN
DESCRIPTION:Ersatz für Ausfall am 01.12.2025
SUMMARY:Yoga am frühen Abend (GM31482) 
LOCATION:Haus der VHS, Gymnastikraum, Innere Heerstr. 6, 72555 Metzingen
END:VEVENT
BEGIN:VEVENT
DTSTAMP:20260420T230742
DTSTART;TZID=Europe/Berlin:20251208T180000
DTEND;TZID=Europe/Berlin:20251208T191500
UID:GM31482-20251208T180000@VHSMETZINGEN
SUMMARY:Yoga am frühen Abend (GM31482) 
LOCATION:Haus der VHS, Raum Atelier, Innere Heerstr. 6, 72555 Metzingen
END:VEVENT
BEGIN:VEVENT
DTSTAMP:20260420T230742
DTSTART;TZID=Europe/Berlin:20251215T180000
DTEND;TZID=Europe/Berlin:20251215T191500
UID:GM31482-20251215T180000@VHSMETZINGEN
SUMMARY:Yoga am frühen Abend (GM31482) 
LOCATION:Haus der VHS, Raum Atelier, Innere Heerstr. 6, 72555 Metzingen
END:VEVENT
BEGIN:VEVENT
DTSTAMP:20260420T230742
DTSTART;TZID=Europe/Berlin:20260112T180000
DTEND;TZID=Europe/Berlin:20260112T191500
UID:GM31482-20260112T180000@VHSMETZINGEN
SUMMARY:Yoga am frühen Abend (GM31482) 
LOCATION:Haus der VHS, Raum Atelier, Innere Heerstr. 6, 72555 Metzingen
END:VEVENT
BEGIN:VEVENT
DTSTAMP:20260420T230742
DTSTART;TZID=Europe/Berlin:20260119T180000
DTEND;TZID=Europe/Berlin:20260119T191500
UID:GM31482-20260119T180000@VHSMETZINGEN
SUMMARY:Yoga am frühen Abend (GM31482) 
LOCATION:Haus der VHS, Raum Atelier, Innere Heerstr. 6, 72555 Metzingen
END:VEVENT
BEGIN:VEVENT
DTSTAMP:20260420T230742
DTSTART;TZID=Europe/Berlin:20260126T180000
DTEND;TZID=Europe/Berlin:20260126T191500
UID:GM31482-20260126T180000@VHSMETZINGEN
SUMMARY:Yoga am frühen Abend (GM31482) 
LOCATION:Haus der VHS, Raum Atelier, Innere Heerstr. 6, 72555 Metzingen
END:VEVENT
BEGIN:VEVENT
DTSTAMP:20260420T230742
DTSTART;TZID=Europe/Berlin:20260202T180000
DTEND;TZID=Europe/Berlin:20260202T191500
UID:GM31482-20260202T180000@VHSMETZINGEN
SUMMARY:Yoga am frühen Abend (GM31482) 
LOCATION:Haus der VHS, Raum Atelier, Innere Heerstr. 6, 72555 Metzingen
END:VEVENT
END:VCALENDAR