BEGIN:VCALENDAR
VERSION:2.0
PRODID:http://www.kufer.de/kuferweb / DE
METHOD:PUBLISH
CALSCALE:GREGORIAN
X-WR-TIMEZONE:Europe/Berlin
BEGIN:VTIMEZONE
TZID:Europe/Berlin
X-LIC-LOCATION:Europe/Berlin
BEGIN:DAYLIGHT
TZOFFSETFROM:+0100
TZOFFSETTO:+0200
TZNAME:CEST
DTSTART;TZID=Europe/Berlin:19700329T020000
RRULE:FREQ=YEARLY;INTERVAL=1;BYDAY=-1SU;BYMONTH=3
END:DAYLIGHT
BEGIN:STANDARD
TZOFFSETFROM:+0200
TZOFFSETTO:+0100
TZNAME:CET
DTSTART;TZID=Europe/Berlin:19701025T030000
RRULE:FREQ=YEARLY;INTERVAL=1;BYDAY=-1SU;BYMONTH=10
END:STANDARD
END:VTIMEZONE
BEGIN:VEVENT
DTSTAMP:20260420T181505
DTSTART;TZID=Europe/Berlin:20250925T194500
DTEND;TZID=Europe/Berlin:20250925T210000
UID:GM31417-20250925T194500@VHSMETZINGEN
SUMMARY:Hatha Yoga Relax (GM31417) 
LOCATION:Haus der VHS, Raum Atelier, Innere Heerstr. 6, 72555 Metzingen
END:VEVENT
BEGIN:VEVENT
DTSTAMP:20260420T181505
DTSTART;TZID=Europe/Berlin:20251002T194500
DTEND;TZID=Europe/Berlin:20251002T210000
UID:GM31417-20251002T194500@VHSMETZINGEN
SUMMARY:Hatha Yoga Relax (GM31417) 
LOCATION:Haus der VHS, Raum Atelier, Innere Heerstr. 6, 72555 Metzingen
END:VEVENT
BEGIN:VEVENT
DTSTAMP:20260420T181505
DTSTART;TZID=Europe/Berlin:20251009T194500
DTEND;TZID=Europe/Berlin:20251009T210000
UID:GM31417-20251009T194500@VHSMETZINGEN
SUMMARY:Hatha Yoga Relax (GM31417) 
LOCATION:Haus der VHS, Raum Atelier, Innere Heerstr. 6, 72555 Metzingen
END:VEVENT
BEGIN:VEVENT
DTSTAMP:20260420T181505
DTSTART;TZID=Europe/Berlin:20251016T194500
DTEND;TZID=Europe/Berlin:20251016T210000
UID:GM31417-20251016T194500@VHSMETZINGEN
SUMMARY:Hatha Yoga Relax (GM31417) 
LOCATION:Haus der VHS, Raum Atelier, Innere Heerstr. 6, 72555 Metzingen
END:VEVENT
BEGIN:VEVENT
DTSTAMP:20260420T181505
DTSTART;TZID=Europe/Berlin:20251023T194500
DTEND;TZID=Europe/Berlin:20251023T210000
UID:GM31417-20251023T194500@VHSMETZINGEN
SUMMARY:Hatha Yoga Relax (GM31417) 
LOCATION:Haus der VHS, Raum Atelier, Innere Heerstr. 6, 72555 Metzingen
END:VEVENT
BEGIN:VEVENT
DTSTAMP:20260420T181505
DTSTART;TZID=Europe/Berlin:20251106T194500
DTEND;TZID=Europe/Berlin:20251106T210000
UID:GM31417-20251106T194500@VHSMETZINGEN
SUMMARY:Hatha Yoga Relax (GM31417) 
LOCATION:Haus der VHS, Raum Atelier, Innere Heerstr. 6, 72555 Metzingen
END:VEVENT
BEGIN:VEVENT
DTSTAMP:20260420T181505
DTSTART;TZID=Europe/Berlin:20251113T194500
DTEND;TZID=Europe/Berlin:20251113T210000
UID:GM31417-20251113T194500@VHSMETZINGEN
SUMMARY:Hatha Yoga Relax (GM31417) 
LOCATION:Haus der VHS, Raum Atelier, Innere Heerstr. 6, 72555 Metzingen
END:VEVENT
BEGIN:VEVENT
DTSTAMP:20260420T181505
DTSTART;TZID=Europe/Berlin:20251127T194500
DTEND;TZID=Europe/Berlin:20251127T210000
UID:GM31417-20251127T194500@VHSMETZINGEN
SUMMARY:Hatha Yoga Relax (GM31417) 
LOCATION:Haus der VHS, Raum Atelier, Innere Heerstr. 6, 72555 Metzingen
END:VEVENT
BEGIN:VEVENT
DTSTAMP:20260420T181505
DTSTART;TZID=Europe/Berlin:20251204T194500
DTEND;TZID=Europe/Berlin:20251204T210000
UID:GM31417-20251204T194500@VHSMETZINGEN
SUMMARY:Hatha Yoga Relax (GM31417) 
LOCATION:Haus der VHS, Raum Atelier, Innere Heerstr. 6, 72555 Metzingen
END:VEVENT
BEGIN:VEVENT
DTSTAMP:20260420T181505
DTSTART;TZID=Europe/Berlin:20251211T194500
DTEND;TZID=Europe/Berlin:20251211T210000
UID:GM31417-20251211T194500@VHSMETZINGEN
SUMMARY:Hatha Yoga Relax (GM31417) 
LOCATION:Haus der VHS, Raum Atelier, Innere Heerstr. 6, 72555 Metzingen
END:VEVENT
BEGIN:VEVENT
DTSTAMP:20260420T181505
DTSTART;TZID=Europe/Berlin:20251218T194500
DTEND;TZID=Europe/Berlin:20251218T210000
UID:GM31417-20251218T194500@VHSMETZINGEN
SUMMARY:Hatha Yoga Relax (GM31417) 
LOCATION:Haus der VHS, Raum Atelier, Innere Heerstr. 6, 72555 Metzingen
END:VEVENT
END:VCALENDAR