BEGIN:VCALENDAR
VERSION:2.0
PRODID:http://www.kufer.de/kuferweb / DE
METHOD:PUBLISH
CALSCALE:GREGORIAN
X-WR-TIMEZONE:Europe/Berlin
BEGIN:VTIMEZONE
TZID:Europe/Berlin
X-LIC-LOCATION:Europe/Berlin
BEGIN:DAYLIGHT
TZOFFSETFROM:+0100
TZOFFSETTO:+0200
TZNAME:CEST
DTSTART;TZID=Europe/Berlin:19700329T020000
RRULE:FREQ=YEARLY;INTERVAL=1;BYDAY=-1SU;BYMONTH=3
END:DAYLIGHT
BEGIN:STANDARD
TZOFFSETFROM:+0200
TZOFFSETTO:+0100
TZNAME:CET
DTSTART;TZID=Europe/Berlin:19701025T030000
RRULE:FREQ=YEARLY;INTERVAL=1;BYDAY=-1SU;BYMONTH=10
END:STANDARD
END:VTIMEZONE
BEGIN:VEVENT
DTSTAMP:20260420T152546
DTSTART;TZID=Europe/Berlin:20250925T181500
DTEND;TZID=Europe/Berlin:20250925T193000
UID:GM31412-20250925T181500@VHSMETZINGEN
SUMMARY:Yoga für Anfänger/innen und Fortgeschrittene (GM31412) 
LOCATION:Haus der VHS, Gymnastikraum, Innere Heerstr. 6, 72555 Metzingen
END:VEVENT
BEGIN:VEVENT
DTSTAMP:20260420T152546
DTSTART;TZID=Europe/Berlin:20251002T181500
DTEND;TZID=Europe/Berlin:20251002T193000
UID:GM31412-20251002T181500@VHSMETZINGEN
SUMMARY:Yoga für Anfänger/innen und Fortgeschrittene (GM31412) 
LOCATION:Haus der VHS, Gymnastikraum, Innere Heerstr. 6, 72555 Metzingen
END:VEVENT
BEGIN:VEVENT
DTSTAMP:20260420T152546
DTSTART;TZID=Europe/Berlin:20251009T181500
DTEND;TZID=Europe/Berlin:20251009T193000
UID:GM31412-20251009T181500@VHSMETZINGEN
SUMMARY:Yoga für Anfänger/innen und Fortgeschrittene (GM31412) 
LOCATION:Haus der VHS, Gymnastikraum, Innere Heerstr. 6, 72555 Metzingen
END:VEVENT
BEGIN:VEVENT
DTSTAMP:20260420T152546
DTSTART;TZID=Europe/Berlin:20251016T181500
DTEND;TZID=Europe/Berlin:20251016T193000
UID:GM31412-20251016T181500@VHSMETZINGEN
SUMMARY:Yoga für Anfänger/innen und Fortgeschrittene (GM31412) 
LOCATION:Haus der VHS, Gymnastikraum, Innere Heerstr. 6, 72555 Metzingen
END:VEVENT
BEGIN:VEVENT
DTSTAMP:20260420T152546
DTSTART;TZID=Europe/Berlin:20251023T181500
DTEND;TZID=Europe/Berlin:20251023T193000
UID:GM31412-20251023T181500@VHSMETZINGEN
SUMMARY:Yoga für Anfänger/innen und Fortgeschrittene (GM31412) 
LOCATION:Haus der VHS, Gymnastikraum, Innere Heerstr. 6, 72555 Metzingen
END:VEVENT
BEGIN:VEVENT
DTSTAMP:20260420T152546
DTSTART;TZID=Europe/Berlin:20251113T181500
DTEND;TZID=Europe/Berlin:20251113T193000
UID:GM31412-20251113T181500@VHSMETZINGEN
SUMMARY:Yoga für Anfänger/innen und Fortgeschrittene (GM31412) 
LOCATION:Haus der VHS, Gymnastikraum, Innere Heerstr. 6, 72555 Metzingen
END:VEVENT
BEGIN:VEVENT
DTSTAMP:20260420T152546
DTSTART;TZID=Europe/Berlin:20251120T181500
DTEND;TZID=Europe/Berlin:20251120T193000
UID:GM31412-20251120T181500@VHSMETZINGEN
SUMMARY:Yoga für Anfänger/innen und Fortgeschrittene (GM31412) 
LOCATION:Haus der VHS, Gymnastikraum, Innere Heerstr. 6, 72555 Metzingen
END:VEVENT
BEGIN:VEVENT
DTSTAMP:20260420T152546
DTSTART;TZID=Europe/Berlin:20251127T181500
DTEND;TZID=Europe/Berlin:20251127T193000
UID:GM31412-20251127T181500@VHSMETZINGEN
SUMMARY:Yoga für Anfänger/innen und Fortgeschrittene (GM31412) 
LOCATION:Haus der VHS, Gymnastikraum, Innere Heerstr. 6, 72555 Metzingen
END:VEVENT
BEGIN:VEVENT
DTSTAMP:20260420T152546
DTSTART;TZID=Europe/Berlin:20251204T181500
DTEND;TZID=Europe/Berlin:20251204T193000
UID:GM31412-20251204T181500@VHSMETZINGEN
SUMMARY:Yoga für Anfänger/innen und Fortgeschrittene (GM31412) 
LOCATION:Haus der VHS, Gymnastikraum, Innere Heerstr. 6, 72555 Metzingen
END:VEVENT
BEGIN:VEVENT
DTSTAMP:20260420T152546
DTSTART;TZID=Europe/Berlin:20260115T181500
DTEND;TZID=Europe/Berlin:20260115T193000
UID:GM31412-20260115T181500@VHSMETZINGEN
DESCRIPTION:Ersatz für Ausfall am 06.11.2025
SUMMARY:Yoga für Anfänger/innen und Fortgeschrittene (GM31412) 
LOCATION:Haus der VHS, Gymnastikraum, Innere Heerstr. 6, 72555 Metzingen
END:VEVENT
BEGIN:VEVENT
DTSTAMP:20260420T152546
DTSTART;TZID=Europe/Berlin:20260122T181500
DTEND;TZID=Europe/Berlin:20260122T193000
UID:GM31412-20260122T181500@VHSMETZINGEN
DESCRIPTION:Ersatz für Ausfall am 18.12.2025
SUMMARY:Yoga für Anfänger/innen und Fortgeschrittene (GM31412) 
LOCATION:Haus der VHS, Gymnastikraum, Innere Heerstr. 6, 72555 Metzingen
END:VEVENT
BEGIN:VEVENT
DTSTAMP:20260420T152546
DTSTART;TZID=Europe/Berlin:20260129T181500
DTEND;TZID=Europe/Berlin:20260129T193000
UID:GM31412-20260129T181500@VHSMETZINGEN
DESCRIPTION:Ersatz für Ausfall am 11.12.2025
SUMMARY:Yoga für Anfänger/innen und Fortgeschrittene (GM31412) 
LOCATION:Haus der VHS, Gymnastikraum, Innere Heerstr. 6, 72555 Metzingen
END:VEVENT
END:VCALENDAR