BEGIN:VCALENDAR
VERSION:2.0
PRODID:http://www.kufer.de/kuferweb / DE
METHOD:PUBLISH
CALSCALE:GREGORIAN
X-WR-TIMEZONE:Europe/Berlin
BEGIN:VTIMEZONE
TZID:Europe/Berlin
X-LIC-LOCATION:Europe/Berlin
BEGIN:DAYLIGHT
TZOFFSETFROM:+0100
TZOFFSETTO:+0200
TZNAME:CEST
DTSTART;TZID=Europe/Berlin:19700329T020000
RRULE:FREQ=YEARLY;INTERVAL=1;BYDAY=-1SU;BYMONTH=3
END:DAYLIGHT
BEGIN:STANDARD
TZOFFSETFROM:+0200
TZOFFSETTO:+0100
TZNAME:CET
DTSTART;TZID=Europe/Berlin:19701025T030000
RRULE:FREQ=YEARLY;INTERVAL=1;BYDAY=-1SU;BYMONTH=10
END:STANDARD
END:VTIMEZONE
BEGIN:VEVENT
DTSTAMP:20260420T171114
DTSTART;TZID=Europe/Berlin:20250923T190000
DTEND;TZID=Europe/Berlin:20250923T210000
UID:GM20100-20250923T190000@VHSMETZINGEN
SUMMARY:Fotoclub (GM20100) 
LOCATION:Haus der VHS, Raum Schönbein, Innere Heerstr. 6, 72555 Metzingen
END:VEVENT
BEGIN:VEVENT
DTSTAMP:20260420T171114
DTSTART;TZID=Europe/Berlin:20251007T190000
DTEND;TZID=Europe/Berlin:20251007T210000
UID:GM20100-20251007T190000@VHSMETZINGEN
SUMMARY:Fotoclub (GM20100) 
LOCATION:Haus der VHS, Raum Schönbein, Innere Heerstr. 6, 72555 Metzingen
END:VEVENT
BEGIN:VEVENT
DTSTAMP:20260420T171114
DTSTART;TZID=Europe/Berlin:20251021T190000
DTEND;TZID=Europe/Berlin:20251021T210000
UID:GM20100-20251021T190000@VHSMETZINGEN
SUMMARY:Fotoclub (GM20100) 
LOCATION:Haus der VHS, Raum Küßner, Innere Heerstr. 6, 72555 Metzingen
END:VEVENT
BEGIN:VEVENT
DTSTAMP:20260420T171114
DTSTART;TZID=Europe/Berlin:20251104T190000
DTEND;TZID=Europe/Berlin:20251104T210000
UID:GM20100-20251104T190000@VHSMETZINGEN
SUMMARY:Fotoclub (GM20100) 
LOCATION:Haus der VHS, Raum Schönbein, Innere Heerstr. 6, 72555 Metzingen
END:VEVENT
BEGIN:VEVENT
DTSTAMP:20260420T171114
DTSTART;TZID=Europe/Berlin:20251118T190000
DTEND;TZID=Europe/Berlin:20251118T210000
UID:GM20100-20251118T190000@VHSMETZINGEN
SUMMARY:Fotoclub (GM20100) 
LOCATION:Haus der VHS, Raum Schönbein, Innere Heerstr. 6, 72555 Metzingen
END:VEVENT
BEGIN:VEVENT
DTSTAMP:20260420T171114
DTSTART;TZID=Europe/Berlin:20251202T190000
DTEND;TZID=Europe/Berlin:20251202T210000
UID:GM20100-20251202T190000@VHSMETZINGEN
SUMMARY:Fotoclub (GM20100) 
LOCATION:Haus der VHS, Raum Schönbein, Innere Heerstr. 6, 72555 Metzingen
END:VEVENT
BEGIN:VEVENT
DTSTAMP:20260420T171114
DTSTART;TZID=Europe/Berlin:20251216T190000
DTEND;TZID=Europe/Berlin:20251216T210000
UID:GM20100-20251216T190000@VHSMETZINGEN
SUMMARY:Fotoclub (GM20100) 
LOCATION:Haus der VHS, Raum Schönbein, Innere Heerstr. 6, 72555 Metzingen
END:VEVENT
BEGIN:VEVENT
DTSTAMP:20260420T171114
DTSTART;TZID=Europe/Berlin:20251230T190000
DTEND;TZID=Europe/Berlin:20251230T210000
UID:GM20100-20251230T190000@VHSMETZINGEN
SUMMARY:Fotoclub (GM20100) 
LOCATION:Haus der VHS, Raum Schönbein, Innere Heerstr. 6, 72555 Metzingen
END:VEVENT
BEGIN:VEVENT
DTSTAMP:20260420T171114
DTSTART;TZID=Europe/Berlin:20260113T190000
DTEND;TZID=Europe/Berlin:20260113T210000
UID:GM20100-20260113T190000@VHSMETZINGEN
SUMMARY:Fotoclub (GM20100) 
LOCATION:Haus der VHS, Raum Schönbein, Innere Heerstr. 6, 72555 Metzingen
END:VEVENT
BEGIN:VEVENT
DTSTAMP:20260420T171114
DTSTART;TZID=Europe/Berlin:20260127T190000
DTEND;TZID=Europe/Berlin:20260127T210000
UID:GM20100-20260127T190000@VHSMETZINGEN
SUMMARY:Fotoclub (GM20100) 
LOCATION:Haus der VHS, Raum Schönbein, Innere Heerstr. 6, 72555 Metzingen
END:VEVENT
BEGIN:VEVENT
DTSTAMP:20260420T171114
DTSTART;TZID=Europe/Berlin:20260210T190000
DTEND;TZID=Europe/Berlin:20260210T210000
UID:GM20100-20260210T190000@VHSMETZINGEN
SUMMARY:Fotoclub (GM20100) 
LOCATION:Haus der VHS, Raum Schönbein, Innere Heerstr. 6, 72555 Metzingen
END:VEVENT
END:VCALENDAR