BEGIN:VCALENDAR
VERSION:2.0
PRODID:http://www.kufer.de/kuferweb / DE
METHOD:PUBLISH
CALSCALE:GREGORIAN
X-WR-TIMEZONE:Europe/Berlin
BEGIN:VTIMEZONE
TZID:Europe/Berlin
X-LIC-LOCATION:Europe/Berlin
BEGIN:DAYLIGHT
TZOFFSETFROM:+0100
TZOFFSETTO:+0200
TZNAME:CEST
DTSTART;TZID=Europe/Berlin:19700329T020000
RRULE:FREQ=YEARLY;INTERVAL=1;BYDAY=-1SU;BYMONTH=3
END:DAYLIGHT
BEGIN:STANDARD
TZOFFSETFROM:+0200
TZOFFSETTO:+0100
TZNAME:CET
DTSTART;TZID=Europe/Berlin:19701025T030000
RRULE:FREQ=YEARLY;INTERVAL=1;BYDAY=-1SU;BYMONTH=10
END:STANDARD
END:VTIMEZONE
BEGIN:VEVENT
DTSTAMP:20260420T103300
DTSTART;TZID=Europe/Berlin:20250923T160000
DTEND;TZID=Europe/Berlin:20250923T170000
UID:GM16413-20250923T160000@VHSMETZINGEN
SUMMARY:Aikido in ukrainischer Sprache (GM16413) 
LOCATION:Haus der VHS, Raum Atelier, Innere Heerstr. 6, 72555 Metzingen
END:VEVENT
BEGIN:VEVENT
DTSTAMP:20260420T103300
DTSTART;TZID=Europe/Berlin:20250930T160000
DTEND;TZID=Europe/Berlin:20250930T170000
UID:GM16413-20250930T160000@VHSMETZINGEN
SUMMARY:Aikido in ukrainischer Sprache (GM16413) 
LOCATION:Haus der VHS, Raum Atelier, Innere Heerstr. 6, 72555 Metzingen
END:VEVENT
BEGIN:VEVENT
DTSTAMP:20260420T103300
DTSTART;TZID=Europe/Berlin:20251007T160000
DTEND;TZID=Europe/Berlin:20251007T170000
UID:GM16413-20251007T160000@VHSMETZINGEN
SUMMARY:Aikido in ukrainischer Sprache (GM16413) 
LOCATION:Haus der VHS, Raum Atelier, Innere Heerstr. 6, 72555 Metzingen
END:VEVENT
BEGIN:VEVENT
DTSTAMP:20260420T103300
DTSTART;TZID=Europe/Berlin:20251014T160000
DTEND;TZID=Europe/Berlin:20251014T170000
UID:GM16413-20251014T160000@VHSMETZINGEN
SUMMARY:Aikido in ukrainischer Sprache (GM16413) 
LOCATION:Haus der VHS, Raum Atelier, Innere Heerstr. 6, 72555 Metzingen
END:VEVENT
BEGIN:VEVENT
DTSTAMP:20260420T103300
DTSTART;TZID=Europe/Berlin:20251021T160000
DTEND;TZID=Europe/Berlin:20251021T170000
UID:GM16413-20251021T160000@VHSMETZINGEN
SUMMARY:Aikido in ukrainischer Sprache (GM16413) 
LOCATION:Haus der VHS, Raum Atelier, Innere Heerstr. 6, 72555 Metzingen
END:VEVENT
END:VCALENDAR