BEGIN:VCALENDAR
VERSION:2.0
PRODID:http://www.kufer.de/kuferweb / DE
METHOD:PUBLISH
CALSCALE:GREGORIAN
X-WR-TIMEZONE:Europe/Berlin
BEGIN:VTIMEZONE
TZID:Europe/Berlin
X-LIC-LOCATION:Europe/Berlin
BEGIN:DAYLIGHT
TZOFFSETFROM:+0100
TZOFFSETTO:+0200
TZNAME:CEST
DTSTART;TZID=Europe/Berlin:19700329T020000
RRULE:FREQ=YEARLY;INTERVAL=1;BYDAY=-1SU;BYMONTH=3
END:DAYLIGHT
BEGIN:STANDARD
TZOFFSETFROM:+0200
TZOFFSETTO:+0100
TZNAME:CET
DTSTART;TZID=Europe/Berlin:19701025T030000
RRULE:FREQ=YEARLY;INTERVAL=1;BYDAY=-1SU;BYMONTH=10
END:STANDARD
END:VTIMEZONE
BEGIN:VEVENT
DTSTAMP:20260420T114813
DTSTART;TZID=Europe/Berlin:20250923T163000
DTEND;TZID=Europe/Berlin:20250923T180000
UID:GM10800-20250923T163000@VHSMETZINGEN
SUMMARY:Literatur am Nachmittag  (GM10800) 
LOCATION:Haus der VHS, Raum Völter, Innere Heerstr. 6, 72555 Metzingen
END:VEVENT
BEGIN:VEVENT
DTSTAMP:20260420T114813
DTSTART;TZID=Europe/Berlin:20251007T163000
DTEND;TZID=Europe/Berlin:20251007T180000
UID:GM10800-20251007T163000@VHSMETZINGEN
SUMMARY:Literatur am Nachmittag  (GM10800) 
LOCATION:Haus der VHS, Raum Völter, Innere Heerstr. 6, 72555 Metzingen
END:VEVENT
BEGIN:VEVENT
DTSTAMP:20260420T114813
DTSTART;TZID=Europe/Berlin:20251021T163000
DTEND;TZID=Europe/Berlin:20251021T180000
UID:GM10800-20251021T163000@VHSMETZINGEN
SUMMARY:Literatur am Nachmittag  (GM10800) 
LOCATION:Haus der VHS, Raum Völter, Innere Heerstr. 6, 72555 Metzingen
END:VEVENT
BEGIN:VEVENT
DTSTAMP:20260420T114813
DTSTART;TZID=Europe/Berlin:20251104T163000
DTEND;TZID=Europe/Berlin:20251104T180000
UID:GM10800-20251104T163000@VHSMETZINGEN
SUMMARY:Literatur am Nachmittag  (GM10800) 
LOCATION:Haus der VHS, Raum Völter, Innere Heerstr. 6, 72555 Metzingen
END:VEVENT
BEGIN:VEVENT
DTSTAMP:20260420T114813
DTSTART;TZID=Europe/Berlin:20251118T163000
DTEND;TZID=Europe/Berlin:20251118T180000
UID:GM10800-20251118T163000@VHSMETZINGEN
SUMMARY:Literatur am Nachmittag  (GM10800) 
LOCATION:Haus der VHS, Raum Völter, Innere Heerstr. 6, 72555 Metzingen
END:VEVENT
BEGIN:VEVENT
DTSTAMP:20260420T114813
DTSTART;TZID=Europe/Berlin:20251202T163000
DTEND;TZID=Europe/Berlin:20251202T180000
UID:GM10800-20251202T163000@VHSMETZINGEN
SUMMARY:Literatur am Nachmittag  (GM10800) 
LOCATION:Haus der VHS, Raum Völter, Innere Heerstr. 6, 72555 Metzingen
END:VEVENT
BEGIN:VEVENT
DTSTAMP:20260420T114813
DTSTART;TZID=Europe/Berlin:20260113T163000
DTEND;TZID=Europe/Berlin:20260113T180000
UID:GM10800-20260113T163000@VHSMETZINGEN
SUMMARY:Literatur am Nachmittag  (GM10800) 
LOCATION:Haus der VHS, Raum Völter, Innere Heerstr. 6, 72555 Metzingen
END:VEVENT
BEGIN:VEVENT
DTSTAMP:20260420T114813
DTSTART;TZID=Europe/Berlin:20260127T163000
DTEND;TZID=Europe/Berlin:20260127T180000
UID:GM10800-20260127T163000@VHSMETZINGEN
SUMMARY:Literatur am Nachmittag  (GM10800) 
LOCATION:Haus der VHS, Raum Völter, Innere Heerstr. 6, 72555 Metzingen
END:VEVENT
END:VCALENDAR