BEGIN:VCALENDAR
VERSION:2.0
PRODID:http://www.kufer.de/kuferweb / DE
METHOD:PUBLISH
CALSCALE:GREGORIAN
X-WR-TIMEZONE:Europe/Berlin
BEGIN:VTIMEZONE
TZID:Europe/Berlin
X-LIC-LOCATION:Europe/Berlin
BEGIN:DAYLIGHT
TZOFFSETFROM:+0100
TZOFFSETTO:+0200
TZNAME:CEST
DTSTART;TZID=Europe/Berlin:19700329T020000
RRULE:FREQ=YEARLY;INTERVAL=1;BYDAY=-1SU;BYMONTH=3
END:DAYLIGHT
BEGIN:STANDARD
TZOFFSETFROM:+0200
TZOFFSETTO:+0100
TZNAME:CET
DTSTART;TZID=Europe/Berlin:19701025T030000
RRULE:FREQ=YEARLY;INTERVAL=1;BYDAY=-1SU;BYMONTH=10
END:STANDARD
END:VTIMEZONE
BEGIN:VEVENT
DTSTAMP:20260421T010728
DTSTART;TZID=Europe/Berlin:20250924T090000
DTEND;TZID=Europe/Berlin:20250924T103000
UID:GG40662-20250924T090000@VHSMETZINGEN
SUMMARY:Englisch 55+ (A2/B1) - auch für Wiedereinsteiger/innen geeignet (GG40662) 
LOCATION:Rienzbühlhalle, Hermann-Bader-Raum, , 72661 Grafenberg
END:VEVENT
BEGIN:VEVENT
DTSTAMP:20260421T010728
DTSTART;TZID=Europe/Berlin:20251001T090000
DTEND;TZID=Europe/Berlin:20251001T103000
UID:GG40662-20251001T090000@VHSMETZINGEN
SUMMARY:Englisch 55+ (A2/B1) - auch für Wiedereinsteiger/innen geeignet (GG40662) 
LOCATION:Rienzbühlhalle, Hermann-Bader-Raum, , 72661 Grafenberg
END:VEVENT
BEGIN:VEVENT
DTSTAMP:20260421T010728
DTSTART;TZID=Europe/Berlin:20251008T090000
DTEND;TZID=Europe/Berlin:20251008T103000
UID:GG40662-20251008T090000@VHSMETZINGEN
SUMMARY:Englisch 55+ (A2/B1) - auch für Wiedereinsteiger/innen geeignet (GG40662) 
LOCATION:Rienzbühlhalle, Hermann-Bader-Raum, , 72661 Grafenberg
END:VEVENT
BEGIN:VEVENT
DTSTAMP:20260421T010728
DTSTART;TZID=Europe/Berlin:20251015T090000
DTEND;TZID=Europe/Berlin:20251015T103000
UID:GG40662-20251015T090000@VHSMETZINGEN
SUMMARY:Englisch 55+ (A2/B1) - auch für Wiedereinsteiger/innen geeignet (GG40662) 
LOCATION:Rienzbühlhalle, Hermann-Bader-Raum, , 72661 Grafenberg
END:VEVENT
BEGIN:VEVENT
DTSTAMP:20260421T010728
DTSTART;TZID=Europe/Berlin:20251022T090000
DTEND;TZID=Europe/Berlin:20251022T103000
UID:GG40662-20251022T090000@VHSMETZINGEN
SUMMARY:Englisch 55+ (A2/B1) - auch für Wiedereinsteiger/innen geeignet (GG40662) 
LOCATION:Rienzbühlhalle, Hermann-Bader-Raum, , 72661 Grafenberg
END:VEVENT
BEGIN:VEVENT
DTSTAMP:20260421T010728
DTSTART;TZID=Europe/Berlin:20251105T090000
DTEND;TZID=Europe/Berlin:20251105T103000
UID:GG40662-20251105T090000@VHSMETZINGEN
SUMMARY:Englisch 55+ (A2/B1) - auch für Wiedereinsteiger/innen geeignet (GG40662) 
LOCATION:Rienzbühlhalle, Hermann-Bader-Raum, , 72661 Grafenberg
END:VEVENT
BEGIN:VEVENT
DTSTAMP:20260421T010728
DTSTART;TZID=Europe/Berlin:20251112T090000
DTEND;TZID=Europe/Berlin:20251112T103000
UID:GG40662-20251112T090000@VHSMETZINGEN
SUMMARY:Englisch 55+ (A2/B1) - auch für Wiedereinsteiger/innen geeignet (GG40662) 
LOCATION:Rienzbühlhalle, Hermann-Bader-Raum, , 72661 Grafenberg
END:VEVENT
BEGIN:VEVENT
DTSTAMP:20260421T010728
DTSTART;TZID=Europe/Berlin:20251119T090000
DTEND;TZID=Europe/Berlin:20251119T103000
UID:GG40662-20251119T090000@VHSMETZINGEN
SUMMARY:Englisch 55+ (A2/B1) - auch für Wiedereinsteiger/innen geeignet (GG40662) 
LOCATION:Rienzbühlhalle, Hermann-Bader-Raum, , 72661 Grafenberg
END:VEVENT
BEGIN:VEVENT
DTSTAMP:20260421T010728
DTSTART;TZID=Europe/Berlin:20251126T090000
DTEND;TZID=Europe/Berlin:20251126T103000
UID:GG40662-20251126T090000@VHSMETZINGEN
SUMMARY:Englisch 55+ (A2/B1) - auch für Wiedereinsteiger/innen geeignet (GG40662) 
LOCATION:Rienzbühlhalle, Hermann-Bader-Raum, , 72661 Grafenberg
END:VEVENT
BEGIN:VEVENT
DTSTAMP:20260421T010728
DTSTART;TZID=Europe/Berlin:20251203T090000
DTEND;TZID=Europe/Berlin:20251203T103000
UID:GG40662-20251203T090000@VHSMETZINGEN
SUMMARY:Englisch 55+ (A2/B1) - auch für Wiedereinsteiger/innen geeignet (GG40662) 
LOCATION:Rienzbühlhalle, Hermann-Bader-Raum, , 72661 Grafenberg
END:VEVENT
BEGIN:VEVENT
DTSTAMP:20260421T010728
DTSTART;TZID=Europe/Berlin:20251210T090000
DTEND;TZID=Europe/Berlin:20251210T103000
UID:GG40662-20251210T090000@VHSMETZINGEN
SUMMARY:Englisch 55+ (A2/B1) - auch für Wiedereinsteiger/innen geeignet (GG40662) 
LOCATION:Rienzbühlhalle, Hermann-Bader-Raum, , 72661 Grafenberg
END:VEVENT
BEGIN:VEVENT
DTSTAMP:20260421T010728
DTSTART;TZID=Europe/Berlin:20251217T090000
DTEND;TZID=Europe/Berlin:20251217T103000
UID:GG40662-20251217T090000@VHSMETZINGEN
SUMMARY:Englisch 55+ (A2/B1) - auch für Wiedereinsteiger/innen geeignet (GG40662) 
LOCATION:Rienzbühlhalle, Hermann-Bader-Raum, , 72661 Grafenberg
END:VEVENT
END:VCALENDAR