BEGIN:VCALENDAR
VERSION:2.0
PRODID:http://www.kufer.de/kuferweb / DE
METHOD:PUBLISH
CALSCALE:GREGORIAN
X-WR-TIMEZONE:Europe/Berlin
BEGIN:VTIMEZONE
TZID:Europe/Berlin
X-LIC-LOCATION:Europe/Berlin
BEGIN:DAYLIGHT
TZOFFSETFROM:+0100
TZOFFSETTO:+0200
TZNAME:CEST
DTSTART;TZID=Europe/Berlin:19700329T020000
RRULE:FREQ=YEARLY;INTERVAL=1;BYDAY=-1SU;BYMONTH=3
END:DAYLIGHT
BEGIN:STANDARD
TZOFFSETFROM:+0200
TZOFFSETTO:+0100
TZNAME:CET
DTSTART;TZID=Europe/Berlin:19701025T030000
RRULE:FREQ=YEARLY;INTERVAL=1;BYDAY=-1SU;BYMONTH=10
END:STANDARD
END:VTIMEZONE
BEGIN:VEVENT
DTSTAMP:20260420T114725
DTSTART;TZID=Europe/Berlin:20251009T170000
DTEND;TZID=Europe/Berlin:20251009T180000
UID:GG31496-20251009T170000@VHSMETZINGEN
SUMMARY:Strala Yoga (GG31496) 
LOCATION:Rienzbühlhalle, Hermann-Bader-Raum, , 72661 Grafenberg
END:VEVENT
BEGIN:VEVENT
DTSTAMP:20260420T114725
DTSTART;TZID=Europe/Berlin:20251016T170000
DTEND;TZID=Europe/Berlin:20251016T180000
UID:GG31496-20251016T170000@VHSMETZINGEN
SUMMARY:Strala Yoga (GG31496) 
LOCATION:Rienzbühlhalle, Hermann-Bader-Raum, , 72661 Grafenberg
END:VEVENT
BEGIN:VEVENT
DTSTAMP:20260420T114725
DTSTART;TZID=Europe/Berlin:20251023T170000
DTEND;TZID=Europe/Berlin:20251023T180000
UID:GG31496-20251023T170000@VHSMETZINGEN
SUMMARY:Strala Yoga (GG31496) 
LOCATION:Rienzbühlhalle, Hermann-Bader-Raum, , 72661 Grafenberg
END:VEVENT
BEGIN:VEVENT
DTSTAMP:20260420T114725
DTSTART;TZID=Europe/Berlin:20251106T170000
DTEND;TZID=Europe/Berlin:20251106T180000
UID:GG31496-20251106T170000@VHSMETZINGEN
SUMMARY:Strala Yoga (GG31496) 
LOCATION:Rienzbühlhalle, Hermann-Bader-Raum, , 72661 Grafenberg
END:VEVENT
BEGIN:VEVENT
DTSTAMP:20260420T114725
DTSTART;TZID=Europe/Berlin:20251113T170000
DTEND;TZID=Europe/Berlin:20251113T180000
UID:GG31496-20251113T170000@VHSMETZINGEN
SUMMARY:Strala Yoga (GG31496) 
LOCATION:Rienzbühlhalle, Hermann-Bader-Raum, , 72661 Grafenberg
END:VEVENT
BEGIN:VEVENT
DTSTAMP:20260420T114725
DTSTART;TZID=Europe/Berlin:20251120T170000
DTEND;TZID=Europe/Berlin:20251120T180000
UID:GG31496-20251120T170000@VHSMETZINGEN
SUMMARY:Strala Yoga (GG31496) 
LOCATION:Rienzbühlhalle, Hermann-Bader-Raum, , 72661 Grafenberg
END:VEVENT
BEGIN:VEVENT
DTSTAMP:20260420T114725
DTSTART;TZID=Europe/Berlin:20251127T170000
DTEND;TZID=Europe/Berlin:20251127T180000
UID:GG31496-20251127T170000@VHSMETZINGEN
SUMMARY:Strala Yoga (GG31496) 
LOCATION:Rienzbühlhalle, Hermann-Bader-Raum, , 72661 Grafenberg
END:VEVENT
BEGIN:VEVENT
DTSTAMP:20260420T114725
DTSTART;TZID=Europe/Berlin:20251204T170000
DTEND;TZID=Europe/Berlin:20251204T180000
UID:GG31496-20251204T170000@VHSMETZINGEN
SUMMARY:Strala Yoga (GG31496) 
LOCATION:Rienzbühlhalle, Hermann-Bader-Raum, , 72661 Grafenberg
END:VEVENT
BEGIN:VEVENT
DTSTAMP:20260420T114725
DTSTART;TZID=Europe/Berlin:20251211T170000
DTEND;TZID=Europe/Berlin:20251211T180000
UID:GG31496-20251211T170000@VHSMETZINGEN
SUMMARY:Strala Yoga (GG31496) 
LOCATION:Rienzbühlhalle, Hermann-Bader-Raum, , 72661 Grafenberg
END:VEVENT
BEGIN:VEVENT
DTSTAMP:20260420T114725
DTSTART;TZID=Europe/Berlin:20251218T170000
DTEND;TZID=Europe/Berlin:20251218T180000
UID:GG31496-20251218T170000@VHSMETZINGEN
SUMMARY:Strala Yoga (GG31496) 
LOCATION:Rienzbühlhalle, Hermann-Bader-Raum, , 72661 Grafenberg
END:VEVENT
BEGIN:VEVENT
DTSTAMP:20260420T114725
DTSTART;TZID=Europe/Berlin:20260108T170000
DTEND;TZID=Europe/Berlin:20260108T180000
UID:GG31496-20260108T170000@VHSMETZINGEN
SUMMARY:Strala Yoga (GG31496) 
LOCATION:Rienzbühlhalle, Hermann-Bader-Raum, , 72661 Grafenberg
END:VEVENT
BEGIN:VEVENT
DTSTAMP:20260420T114725
DTSTART;TZID=Europe/Berlin:20260115T170000
DTEND;TZID=Europe/Berlin:20260115T180000
UID:GG31496-20260115T170000@VHSMETZINGEN
SUMMARY:Strala Yoga (GG31496) 
LOCATION:Rienzbühlhalle, Hermann-Bader-Raum, , 72661 Grafenberg
END:VEVENT
END:VCALENDAR